BEGIN:VCALENDAR
VERSION:2.0
PRODID:-//Drupal iCal API//EN
X-WR-TIMEZONE:America/New_York
BEGIN:VTIMEZONE
TZID:America/New_York
X-LIC-LOCATION:America/New_York
BEGIN:DAYLIGHT
TZNAME:EDT
TZOFFSETFROM:-0500
TZOFFSETTO:-0400
DTSTART:20260308T070000
END:DAYLIGHT
BEGIN:STANDARD
TZNAME:EST
TZOFFSETFROM:-0400
TZOFFSETTO:-0500
DTSTART:20251102T060000
END:STANDARD
END:VTIMEZONE
BEGIN:VEVENT
UID:4841dd00-d664-494f-b6a4-e583777fcd9b
DTSTART;TZID=America/New_York:20260430T153000
SEQUENCE:0
TRANSP:TRANSPARENT
DTEND;TZID=America/New_York:20260430T163000
SUMMARY:Library - Kid's Challenge
CLASS:PUBLIC
DESCRIPTION:Body \n\nBOARD GAMES\n\nCome on in and play board/card games wi
 th other kids\, parents\, and the\nlibrary staff! \n 
DTSTAMP:20260425T090356Z
END:VEVENT
END:VCALENDAR