BEGIN:VCALENDAR
VERSION:2.0
PRODID:-//Drupal iCal API//EN
X-WR-TIMEZONE:America/New_York
BEGIN:VTIMEZONE
TZID:America/New_York
X-LIC-LOCATION:America/New_York
BEGIN:DAYLIGHT
TZNAME:EDT
TZOFFSETFROM:-0500
TZOFFSETTO:-0400
DTSTART:20260308T070000
END:DAYLIGHT
BEGIN:STANDARD
TZNAME:EST
TZOFFSETFROM:-0400
TZOFFSETTO:-0500
DTSTART:20251102T060000
END:STANDARD
END:VTIMEZONE
BEGIN:VEVENT
UID:e1667712-809d-4306-a932-7310d841a8a5
DTSTART;TZID=America/New_York:20260507T100000
SEQUENCE:0
TRANSP:TRANSPARENT
DTEND;TZID=America/New_York:20260507T110000
SUMMARY:Library - Preschool Story Time
CLASS:PUBLIC
DTSTAMP:20260425T094257Z
END:VEVENT
END:VCALENDAR